BEGIN:VCALENDAR
VERSION:2.0
PRODID:-//Rosedale Christian Academy - ECPv6.15.18//NONSGML v1.0//EN
CALSCALE:GREGORIAN
METHOD:PUBLISH
X-ORIGINAL-URL:https://rosedalechristianacademy.org
X-WR-CALDESC:Events for Rosedale Christian Academy
REFRESH-INTERVAL;VALUE=DURATION:PT1H
X-Robots-Tag:noindex
X-PUBLISHED-TTL:PT1H
BEGIN:VTIMEZONE
TZID:America/New_York
BEGIN:DAYLIGHT
TZOFFSETFROM:-0500
TZOFFSETTO:-0400
TZNAME:EDT
DTSTART:20250309T070000
END:DAYLIGHT
BEGIN:STANDARD
TZOFFSETFROM:-0400
TZOFFSETTO:-0500
TZNAME:EST
DTSTART:20251102T060000
END:STANDARD
BEGIN:DAYLIGHT
TZOFFSETFROM:-0500
TZOFFSETTO:-0400
TZNAME:EDT
DTSTART:20260308T070000
END:DAYLIGHT
BEGIN:STANDARD
TZOFFSETFROM:-0400
TZOFFSETTO:-0500
TZNAME:EST
DTSTART:20261101T060000
END:STANDARD
BEGIN:DAYLIGHT
TZOFFSETFROM:-0500
TZOFFSETTO:-0400
TZNAME:EDT
DTSTART:20270314T070000
END:DAYLIGHT
BEGIN:STANDARD
TZOFFSETFROM:-0400
TZOFFSETTO:-0500
TZNAME:EST
DTSTART:20271107T060000
END:STANDARD
END:VTIMEZONE
BEGIN:VEVENT
DTSTART;TZID=America/New_York:20260423T153000
DTEND;TZID=America/New_York:20260423T173000
DTSTAMP:20260419T093951
CREATED:20260413T141551Z
LAST-MODIFIED:20260418T165831Z
UID:10000788-1776958200-1776965400@rosedalechristianacademy.org
SUMMARY:Varsity Girls - Practice
DESCRIPTION:Location: Eastern Regional Park\n   (Arrival Time:  3:30 PM (Eastern Time (US & Canada)))
URL:https://rosedalechristianacademy.org/event/varsity-girls-practice-5/
LOCATION:11723 Eastern Ave\nEssex MD 21220\nUnited States
CATEGORIES:Athletics
END:VEVENT
BEGIN:VEVENT
DTSTART;TZID=America/New_York:20260430T153000
DTEND;TZID=America/New_York:20260430T173000
DTSTAMP:20260419T093951
CREATED:20260413T141551Z
LAST-MODIFIED:20260418T165831Z
UID:10000792-1777563000-1777570200@rosedalechristianacademy.org
SUMMARY:Varsity Girls - Practice
DESCRIPTION:Location: Eastern Regional Park – Turf\n   (Arrival Time:  3:30 PM (Eastern Time (US & Canada)))
URL:https://rosedalechristianacademy.org/event/varsity-girls-practice-7/
LOCATION:11723 Eastern Ave\nEssex MD 21220\nUnited States
CATEGORIES:Athletics
END:VEVENT
BEGIN:VEVENT
DTSTART;TZID=America/New_York:20260501T153000
DTEND;TZID=America/New_York:20260501T173000
DTSTAMP:20260419T093951
CREATED:20260413T141551Z
LAST-MODIFIED:20260418T165831Z
UID:10000793-1777649400-1777656600@rosedalechristianacademy.org
SUMMARY:Varsity Girls - Practice
DESCRIPTION:Location: Eastern Regional Park – Turf\n   (Arrival Time:  3:30 PM (Eastern Time (US & Canada)))
URL:https://rosedalechristianacademy.org/event/varsity-girls-practice-8/
LOCATION:11723 Eastern Ave\nEssex MD 21220\nUnited States
CATEGORIES:Athletics
END:VEVENT
BEGIN:VEVENT
DTSTART;TZID=America/New_York:20260504T153000
DTEND;TZID=America/New_York:20260504T173000
DTSTAMP:20260419T093951
CREATED:20260413T141552Z
LAST-MODIFIED:20260418T165832Z
UID:10000794-1777908600-1777915800@rosedalechristianacademy.org
SUMMARY:Varsity Girls - Practice
DESCRIPTION:Location: Eastern Regional Park – Turf\n   (Arrival Time:  3:30 PM (Eastern Time (US & Canada)))
URL:https://rosedalechristianacademy.org/event/varsity-girls-practice-9/
LOCATION:11723 Eastern Ave\nEssex MD 21220\nUnited States
CATEGORIES:Athletics
END:VEVENT
END:VCALENDAR