BEGIN:VCALENDAR
VERSION:2.0
PRODID:-//Rosedale Christian Academy - ECPv6.15.18//NONSGML v1.0//EN
CALSCALE:GREGORIAN
METHOD:PUBLISH
X-ORIGINAL-URL:https://rosedalechristianacademy.org
X-WR-CALDESC:Events for Rosedale Christian Academy
REFRESH-INTERVAL;VALUE=DURATION:PT1H
X-Robots-Tag:noindex
X-PUBLISHED-TTL:PT1H
BEGIN:VTIMEZONE
TZID:America/New_York
BEGIN:DAYLIGHT
TZOFFSETFROM:-0500
TZOFFSETTO:-0400
TZNAME:EDT
DTSTART:20250309T070000
END:DAYLIGHT
BEGIN:STANDARD
TZOFFSETFROM:-0400
TZOFFSETTO:-0500
TZNAME:EST
DTSTART:20251102T060000
END:STANDARD
BEGIN:DAYLIGHT
TZOFFSETFROM:-0500
TZOFFSETTO:-0400
TZNAME:EDT
DTSTART:20260308T070000
END:DAYLIGHT
BEGIN:STANDARD
TZOFFSETFROM:-0400
TZOFFSETTO:-0500
TZNAME:EST
DTSTART:20261101T060000
END:STANDARD
BEGIN:DAYLIGHT
TZOFFSETFROM:-0500
TZOFFSETTO:-0400
TZNAME:EDT
DTSTART:20270314T070000
END:DAYLIGHT
BEGIN:STANDARD
TZOFFSETFROM:-0400
TZOFFSETTO:-0500
TZNAME:EST
DTSTART:20271107T060000
END:STANDARD
END:VTIMEZONE
BEGIN:VEVENT
DTSTART;TZID=America/New_York:20260129T000000
DTEND;TZID=America/New_York:20260130T000000
DTSTAMP:20260423T134704
CREATED:20251108T195957Z
LAST-MODIFIED:20260304T224410Z
UID:10000646-1769644800-1769731200@rosedalechristianacademy.org
SUMMARY:Varsity Boys vs Fairfax Christian
DESCRIPTION:Location: Neutral\n   (Arrival Time: 12:00 PM (Eastern Time (US & Canada)))
URL:https://rosedalechristianacademy.org/event/varsity-boys-vs-fairfax-christian-2/
LOCATION:Neutral
CATEGORIES:Athletics
END:VEVENT
BEGIN:VEVENT
DTSTART;TZID=America/New_York:20260129T173000
DTEND;TZID=America/New_York:20260129T173000
DTSTAMP:20260423T134704
CREATED:20251108T195957Z
LAST-MODIFIED:20260304T224410Z
UID:10000645-1769707800-1769707800@rosedalechristianacademy.org
SUMMARY:Junior Varsity Boys vs Fairfax Christian
DESCRIPTION:Location: Neutral\n   (Arrival Time:  5:30 PM (Eastern Time (US & Canada)))
URL:https://rosedalechristianacademy.org/event/junior-varsity-boys-vs-fairfax-christian-2/
LOCATION:Neutral
CATEGORIES:Athletics
END:VEVENT
BEGIN:VEVENT
DTSTART;TZID=America/New_York:20260129T180000
DTEND;TZID=America/New_York:20260129T180000
DTSTAMP:20260423T134704
CREATED:20251108T195957Z
LAST-MODIFIED:20260304T224410Z
UID:10000647-1769709600-1769709600@rosedalechristianacademy.org
SUMMARY:Varsity Girls vs St. James
DESCRIPTION:Location: Home\n   (Arrival Time:  6:00 PM (Eastern Time (US & Canada)))
URL:https://rosedalechristianacademy.org/event/varsity-girls-vs-st-james/
LOCATION:Home
CATEGORIES:Athletics
END:VEVENT
END:VCALENDAR